BEGIN:VCALENDAR
VERSION:2.0
PRODID:-//That Place You Know - ECPv6.15.20//NONSGML v1.0//EN
CALSCALE:GREGORIAN
METHOD:PUBLISH
X-WR-CALNAME:That Place You Know
X-ORIGINAL-URL:https://thatplaceyouknowllc.com
X-WR-CALDESC:Events for That Place You Know
REFRESH-INTERVAL;VALUE=DURATION:PT1H
X-Robots-Tag:noindex
X-PUBLISHED-TTL:PT1H
BEGIN:VTIMEZONE
TZID:UTC
BEGIN:STANDARD
TZOFFSETFROM:+0000
TZOFFSETTO:+0000
TZNAME:UTC
DTSTART:20220101T000000
END:STANDARD
END:VTIMEZONE
BEGIN:VEVENT
DTSTART;TZID=UTC:20230624T090000
DTEND;TZID=UTC:20230624T150000
DTSTAMP:20260421T195810
CREATED:20230411T230609Z
LAST-MODIFIED:20230413T162728Z
UID:17716-1687597200-1687618800@thatplaceyouknowllc.com
SUMMARY:TPYK Caregiver Intensive Workshop - June 24\, 2023
DESCRIPTION:TPYK offers full day workshops that provide valuable insight into the four unique phases of memory loss. Each workshop will focus on specific techniques that cultivate a better understanding and support communication with the participant’s loved ones. Attendees will walk away with new and useful insights into what typically each phase of dementia demonstrates and the best approach to use in order to develop a more meaningful connection with loved ones who are living with memory loss. \nThe goal is for each attendee to acquire a deeper\, empathetic understanding of what their loved one may be experiencing and how to connect heart-to-heart so a trusting relationship can be established and maintained. \nThis is an intensive workshop. Note-taking is highly recommended. Recording is not permitted. \nAt the end of the workshop the participant will receive a certificate of attendance. \nLight refreshments and continental meals will be offered. \n			\n				Pay Now
URL:https://thatplaceyouknowllc.com/event/tpyk-caregiver-intensive-workshop-june-24-2023/
LOCATION:TPYK Meeting House\, 28 Ridge Road\, Hollis\, NH\, 03049\, United States
CATEGORIES:Workshop
ORGANIZER;CN="International Council on Active Aging (ICAA) Conference and Expo":MAILTO:info@icaa.cc
END:VEVENT
END:VCALENDAR