BEGIN:VCALENDAR
VERSION:2.0
PRODID:-//That Place You Know - ECPv6.15.20//NONSGML v1.0//EN
CALSCALE:GREGORIAN
METHOD:PUBLISH
X-ORIGINAL-URL:https://thatplaceyouknowllc.com
X-WR-CALDESC:Events for That Place You Know
REFRESH-INTERVAL;VALUE=DURATION:PT1H
X-Robots-Tag:noindex
X-PUBLISHED-TTL:PT1H
BEGIN:VTIMEZONE
TZID:UTC
BEGIN:STANDARD
TZOFFSETFROM:+0000
TZOFFSETTO:+0000
TZNAME:UTC
DTSTART:20160101T000000
END:STANDARD
END:VTIMEZONE
BEGIN:VEVENT
DTSTART;TZID=UTC:20170521T140000
DTEND;TZID=UTC:20170521T153000
DTSTAMP:20260425T184028
CREATED:20170118T211329Z
LAST-MODIFIED:20170118T211329Z
UID:201-1495375200-1495380600@thatplaceyouknowllc.com
SUMMARY:Art Exhibition at Hollis Social Library
DESCRIPTION:The Hollis Social Library will be hosting an Art Exhibit and Reception for the beautiful\, one-of-a-kind art masterpieces created by the clients of That Place You Know\, LLC. This is a wonderful event that will bring proud smiles to our clients and their families. All Are Welcome!
URL:https://thatplaceyouknowllc.com/event/art-exhibition-hollis-social-library/
LOCATION:NH
CATEGORIES:Presentation
END:VEVENT
END:VCALENDAR