BEGIN:VCALENDAR
VERSION:2.0
PRODID:-//That Place You Know - ECPv6.15.20//NONSGML v1.0//EN
CALSCALE:GREGORIAN
METHOD:PUBLISH
X-ORIGINAL-URL:https://thatplaceyouknowllc.com
X-WR-CALDESC:Events for That Place You Know
REFRESH-INTERVAL;VALUE=DURATION:PT1H
X-Robots-Tag:noindex
X-PUBLISHED-TTL:PT1H
BEGIN:VTIMEZONE
TZID:UTC
BEGIN:STANDARD
TZOFFSETFROM:+0000
TZOFFSETTO:+0000
TZNAME:UTC
DTSTART:20150101T000000
END:STANDARD
END:VTIMEZONE
BEGIN:VEVENT
DTSTART;TZID=UTC:20161204T140000
DTEND;TZID=UTC:20161204T150000
DTSTAMP:20260426T022042
CREATED:20161118T182232Z
LAST-MODIFIED:20161118T182232Z
UID:164-1480860000-1480863600@thatplaceyouknowllc.com
SUMMARY:Facing Challenges with Dementia Part 1 - Accepting
DESCRIPTION:Coping with challenges and accepting your loved one’s journey\nThis is part 1 of a 3 part series\, led by Krissy Wuerdeman of That Place You Know LLC\, that will cover challenging situations we encounter as caregivers of loved ones living with dementia. We will discuss alternative approaches offered by Validation\, which has been proven to be effective in communicating with a loved one living with memory loss. Please sign up with the Hollis Social Library by clicking HERE.
URL:https://thatplaceyouknowllc.com/event/facing-dementia-challenges-part-1-accepting/
LOCATION:NH
CATEGORIES:Presentation
END:VEVENT
END:VCALENDAR